Workbook

Sheet dane
D4: t,s | E4: v, m/s
C5: 1 | D5: 0 | E5: 5
D6: 6 | E6: 5
C8: 2 | D8: =D6 -> 6 | E8: =E6 -> 5
D9: 8 | E9: 10
C11: 3 | D11: =D9 -> 8 | E11: =E9 -> 10
D12: 15.6 | E12: 3
C14: 4 | D14: =D12 -> 15.6 | E14: =E12 -> 3
D15: 25 | E15: 4
B20: etap 1 | C20: a, ms-2 | D20: s, m | E20: rodzaj ruchu | G20: droga całkowita, m | I20: =SUM(D21,D24,D27,D30,) -> 127.3 | J20: m
C21: =(E6-E5)/(D6-D5) -> 0 | D21: =0.5*(E5+E6)*(D6-D5) -> 30 | E21: =IF(C21>0,"jednostajnie przyspieszony",IF(C21=0,"jednostajny","jednostajnie opóźniony")) -> jednostajny
G22: szybkość średnia, m/s | I22: =I20/D15 -> 5.092 | J22: ms-1
B23: etap 2 | C23: a, ms-2 | D23: s, m | E23: rodzaj ruchu
C24: =(E9-E8)/(D9-D8) -> 2.5 | D24: =0.5*(E8+E9)*(D9-D8) -> 15 | E24: =IF(C24>0,"jednostajnie przyspieszony",IF(C24=0,"jednostajny","jednostajnie opóźniony")) -> jednostajnie przyspieszony
B26: etap 3 | C26: a, ms-2 | D26: s, m | E26: rodzaj ruchu
C27: =(E12-E11)/(D12-D11) -> -0.92105263 | D27: =0.5*(E11+E12)*(D12-D11) -> 49.4 | E27: =IF(C27>0,"jednostajnie przyspieszony",IF(C27=0,"jednostajny","jednostajnie opóźniony")) -> jednostajnie opóźniony
B29: etap 4 | C29: a, ms-2 | D29: s, m | E29: rodzaj ruchu
C30: =(E15-E14)/(D15-D14) -> 0.10638298 | D30: =0.5*(E14+E15)*(D15-D14) -> 32.9 | E30: =IF(C30>0,"jednostajnie przyspieszony",IF(C30=0,"jednostajny","jednostajnie opóźniony")) -> jednostajnie przyspieszony

Sheet odpowiedzi do skopiowania
C2: Odpowiedzi
D4: a, ms-2 | E4: =dane!D20 -> s, m | F4: =dane!E20 -> rodzaj ruchu
C5: etap1 | D5: =dane!C21 -> 0 | E5: =dane!D21 -> 30 | F5: =dane!E21 -> jednostajny
C6: etap 2 | D6: =dane!C24 -> 2.5 | E6: =dane!D24 -> 15 | F6: =dane!E24 -> jednostajnie przyspieszony
C7: etap 3 | D7: =dane!C27 -> -0.92105263 | E7: =dane!D27 -> 49.4 | F7: =dane!E27 -> jednostajnie opóźniony
C8: etap 4 | D8: =dane!C30 -> 0.10638298 | E8: =dane!D30 -> 32.9 | F8: =dane!E30 -> jednostajnie przyspieszony
C10: droga całkowita | E10: =dane!I20 -> 127.3 | F10: =dane!J20 -> m
C12: szybkość średnia | E12: =dane!I22 -> 5.092 | F12: ms-1
