Workbook

Sheet automat
O7: k = | P7: 5 | S7: n = | T7: 1
O9: Ek = | P9: =ROUND(-13.6/(P7^2),2) -> -0.54 | Q9: eV | S9: En = | T9: =ROUND(-13.6/(T7^2),2) -> -13.6 | U9: eV
O10: Ek = | P10: =P9*1.60217662*10^-19 -> -8.6517537e-20 | Q10: J | S10: En = | T10: =T9*1.60217662*10^-19 -> -2.1789602e-18 | U10: J
O12: Ef = | P12: =ABS(P9-T9) -> 13.06 | Q12: eV
O13: Ef = | P13: =ABS(P10-T10) -> 2.0924427e-18 | Q13: J
O15: f = | P15: =P13/(6.62607004*10^-34) -> 3.157894e+15 | Q15: Hz
O16: l = | P16: =(299792458)/(P15) -> 9.4934301e-08 | Q16: m | R16: = | S16: =ROUND(P16/(10^-9),0) -> 95 | T16: nm
O18: range: | P18: =IF(S16>780,"infrared",IF(S16<380,"ultraviolet",IF(AND(S16<=780,S16>=380),"visible light"))) -> ultraviolet

Sheet zadanie ALL
O7: k = | P7: =automat!P7 -> 5 | S7: n = | T7: =automat!T7 -> 1
O9: Ek = | P9: =ROUND(-13.6/(P7^2),2) -> -0.54 | Q9: eV | S9: En = | T9: =ROUND(-13.6/(T7^2),2) -> -13.6 | U9: eV
O10: Ek = | P10: =P9*1.60217662*10^-19 -> -8.6517537e-20 | Q10: J | S10: En = | T10: =T9*1.60217662*10^-19 -> -2.1789602e-18 | U10: J
O12: Ef = | P12: =ABS(P9-T9) -> 13.06 | Q12: eV
O13: Ef = | P13: =ABS(P10-T10) -> 2.0924427e-18 | Q13: J
O15: f = | P15: =P13/(6.62607004*10^-34) -> 3.157894e+15 | Q15: Hz
O16: l = | P16: =(299792458)/(P15) -> 9.4934301e-08 | Q16: m | R16: = | S16: =ROUND(P16/(10^-9),0) -> 95 | T16: nm
O18: range: | P18: =IF(S16>780,"infrared",IF(S16<380,"ultraviolet",IF(AND(S16<=780,S16>=380),"visible light"))) -> ultraviolet

Sheet zadanie Ef, f, L
O7: k = | P7: =automat!P7 -> 5 | S7: n = | T7: =automat!T7 -> 1
O9: Ek = | P9: =ROUND(-13.6/(P7^2),2) -> -0.54 | Q9: eV | S9: En = | T9: =ROUND(-13.6/(T7^2),2) -> -13.6 | U9: eV
O10: Ek = | P10: =P9*1.60217662*10^-19 -> -8.6517537e-20 | Q10: J | S10: En = | T10: =T9*1.60217662*10^-19 -> -2.1789602e-18 | U10: J
O12: Ef = | P12: =ABS(P9-T9) -> 13.06 | Q12: eV
O13: Ef = | P13: =ABS(P10-T10) -> 2.0924427e-18 | Q13: J
O15: f = | P15: =P13/(6.62607004*10^-34) -> 3.157894e+15 | Q15: Hz
O16: l = | P16: =(299792458)/(P15) -> 9.4934301e-08 | Q16: m | R16: = | S16: =ROUND(P16/(10^-9),0) -> 95 | T16: nm
O18: range: | P18: =IF(S16>780,"infrared",IF(S16<380,"ultraviolet",IF(AND(S16<=780,S16>=380),"visible light"))) -> ultraviolet

Sheet zadanie Ef, f, L - answ.
O7: k = | P7: =automat!P7 -> 5 | S7: n = | T7: =automat!T7 -> 1
O9: Ek = | P9: =ROUND(-13.6/(P7^2),2) -> -0.54 | Q9: eV | S9: En = | T9: =ROUND(-13.6/(T7^2),2) -> -13.6 | U9: eV
O10: Ek = | P10: =P9*1.60217662*10^-19 -> -8.6517537e-20 | Q10: J | S10: En = | T10: =T9*1.60217662*10^-19 -> -2.1789602e-18 | U10: J
O12: Ef = | P12: =ABS(P9-T9) -> 13.06 | Q12: eV
O13: Ef = | P13: =ABS(P10-T10) -> 2.0924427e-18 | Q13: J
O15: f = | P15: =P13/(6.62607004*10^-34) -> 3.157894e+15 | Q15: Hz
O16: l = | P16: =(299792458)/(P15) -> 9.4934301e-08 | Q16: m | R16: = | S16: =ROUND(P16/(10^-9),0) -> 95 | T16: nm
O18: range: | P18: =IF(S16>780,"infrared",IF(S16<380,"ultraviolet",IF(AND(S16<=780,S16>=380),"visible light"))) -> ultraviolet
